BEGIN:VCALENDAR
VERSION:2.0
PRODID:-//Wildhorse Steamboat CO - ECPv6.15.20//NONSGML v1.0//EN
CALSCALE:GREGORIAN
METHOD:PUBLISH
X-ORIGINAL-URL:https://wildhorsearts.org
X-WR-CALDESC:Events for Wildhorse Steamboat CO
REFRESH-INTERVAL;VALUE=DURATION:PT1H
X-Robots-Tag:noindex
X-PUBLISHED-TTL:PT1H
BEGIN:VTIMEZONE
TZID:UTC
BEGIN:STANDARD
TZOFFSETFROM:+0000
TZOFFSETTO:+0000
TZNAME:UTC
DTSTART:20250101T000000
END:STANDARD
END:VTIMEZONE
BEGIN:VEVENT
DTSTART;TZID=UTC:20260302T173000
DTEND;TZID=UTC:20260302T200000
DTSTAMP:20260421T025239
CREATED:20260227T164852Z
LAST-MODIFIED:20260227T165735Z
UID:4624-1772472600-1772481600@wildhorsearts.org
SUMMARY:Fly Fishing Film Tour
DESCRIPTION:Join us to watch some amazing films showing all that fly fishing can bring us. From travels across the globe to backyard adventures and from getting the next generation into the sport and healing on the water\, these films bring the fly fishing world to life. Kick off the upcoming season and help Casting for Recovery\, a non-profit offering free fly fishing retreats to women with breast cancer\, raise money for its Western Slope retreat. Be ready to put your cash in buckets for great door prizes to raise even more money. We’ll see you there!\n \n Ticketing link.  Tickets are $20.
URL:https://wildhorsearts.org/event/fly-fishing-film-tour/
LOCATION:Wildhorse Cinema & Arts\, 655 Marketplace Plaza\, Steamboat Springs\, CO\, 80487\, United States
ATTACH;FMTTYPE=image/jpeg:https://wildhorsearts.org/wp-content/uploads/2026/02/Design-Your-Own-Facebook-Cover-1.jpg
END:VEVENT
BEGIN:VEVENT
DTSTART;TZID=UTC:20260305T053000
DTEND;TZID=UTC:20260305T073000
DTSTAMP:20260421T025239
CREATED:20260208T234757Z
LAST-MODIFIED:20260208T234757Z
UID:4598-1772688600-1772695800@wildhorsearts.org
SUMMARY:Insight Opening Reception
DESCRIPTION:Western Resilience Center presents: INSIGHT: Art for Climate Action
URL:https://wildhorsearts.org/event/insight-opening-reception/
LOCATION:Wildhorse Cinema & Arts\, 655 Marketplace Plaza\, Steamboat Springs\, CO\, 80487\, United States
ATTACH;FMTTYPE=image/png:https://wildhorsearts.org/wp-content/uploads/2026/02/Insight-open-reception-post.png
END:VEVENT
BEGIN:VEVENT
DTSTART;TZID=UTC:20260306T190000
DTEND;TZID=UTC:20260306T210000
DTSTAMP:20260421T025239
CREATED:20260208T233108Z
LAST-MODIFIED:20260208T233108Z
UID:4578-1772823600-1772830800@wildhorsearts.org
SUMMARY:Concert: Shanna in a Dress
DESCRIPTION:Shanna in a Dress is your quirky best friend who refuses to wear pants. She says what\neveryone has felt but no one else will say and you&#39;ll get an uncensored journey of clever\nhumor and heartbreak\, extreme candor\, and a hefty side of entertainment at her shows.\nThis witty wordsmith is known for taking you on an emotional roller coaster\, sometimes\nwithin the same song. Think John Prine mixed with Ingrid Michaelson with a twist of\nPhoebe Buffay from Friends all wrapped up in a sweet voice accented by guitar\, piano\, and\nukulele. She&#39;s as real as it gets\, as anyone who follows her on FB or Instagram knows.\nShanna started her career at the University of Virginia\, fell in love with Boulder\, Colorado\,\nand now keeps her fun music flowing out of Nashville unless she&#39;s touring the US or\nEurope. You can&#39;t get the same Shanna in a Dress show twice with her spontaneous banter\nand playful stage presence. She manages to teeter the line masterfully of taking on complex\nsubject matters with smart\, bold\, and yet accessible lyrics. Her charisma and boldly honest\nsongs are full of interesting language and wordplay and delight audiences of all ages.\nMost recently\, Shanna in a Dress was pronounced the winner of the Rocky Mountain Folks\nFest Songwriting Contest and she returned to perform on the main stage with a full band at\nthe 2023 Rocky Mountain Folks Fest. In 2020 alone\, Shanna was a winner in\nthe Kerrville New Folk competition\, winner of the Great River Folk Fest Song Competition\, a\nfinalist at Songwriter Serenade\, and a Grassy Hill Emerging Artist at the Falcon Ridge Folk\nFestival. \nDuring the summer of 2021\, Shanna bicycled from Seattle to Boston while music-touring on\nher epic &quot;Tour de Dress\,&quot; playing over 60 shows from coast to coast and partnering up with\nthe global non-profit Pangaea World Foundation. \nIn May 2022\, her debut record &quot;Robot&quot; was released after a wildly successful crowdfunded\ncampaign years earlier. She has most recently been seen gracing the stages of Kerrville\nFolk Festival\, Falcon Ridge Folk Festival\, Black Bear Americana Fest\, Great River Folk\nFest\, and the Bluebird Cafe in Nashville. Tom Prasada-Rao calls her &quot;Kerrville&#39;s fastest\nrising star&quot; and she&#39;s certainly delightfully unique and is one to watch in the future.\nShanna’s second album\, Sweet Spot will be released on February 27.
URL:https://wildhorsearts.org/event/concert-shanna-in-a-dress/
LOCATION:Take 5\, 655 Marketplace Plaza\, Steamboat Springs\, CO\, 80487\, United States
ATTACH;FMTTYPE=image/png:https://wildhorsearts.org/wp-content/uploads/2026/02/ChatGPT-Image-Feb-4-2026-at-08_00_02-PM.png
END:VEVENT
BEGIN:VEVENT
DTSTART;TZID=UTC:20260307T190000
DTEND;TZID=UTC:20260307T190000
DTSTAMP:20260421T025239
CREATED:20260227T224221Z
LAST-MODIFIED:20260227T224443Z
UID:4627-1772910000-1772910000@wildhorsearts.org
SUMMARY:The Man Who Saved the World?
DESCRIPTION:Resurrection\, indigenous prophecies\, and adventures around the globe — this is the story of Patrick McCollum. A spiritual leader and peace advocate\, he finds himself at the very center of an ancient prophecy that could decide the fate of our planet. Pulled into McCollum’s world\, acclaimed director Gabe Polsky will bring us across continents on a spiritual journey in which the absurd and profound merge.
URL:https://wildhorsearts.org/event/the-man-who-saved-the-world/
LOCATION:Wildhorse Cinema & Arts\, 655 Marketplace Plaza\, Steamboat Springs\, CO\, 80487\, United States
ATTACH;FMTTYPE=image/png:https://wildhorsearts.org/wp-content/uploads/2026/02/Screenshot-2026-02-27-at-3.40.29-PM.png
END:VEVENT
BEGIN:VEVENT
DTSTART;TZID=UTC:20260311T190000
DTEND;TZID=UTC:20260311T210000
DTSTAMP:20260421T025239
CREATED:20260208T233205Z
LAST-MODIFIED:20260208T233205Z
UID:4580-1773255600-1773262800@wildhorsearts.org
SUMMARY:Musicals Through the Years: Meet Me in St Louis
DESCRIPTION:Musical films started almost as soon as sync sound was introduced in Hollywood in 1929.   Starting as an outgrowth of vaudeville\, Hollywood and the rest of the world quickly developed a universal language of singing and dancing in films that continues to this day.  From Fred Astaire in “Top Hat” and Gene Kelly in “Singin’ in the Rain\,” to “Wicked” to the latest from Bollywood\, musicals have entranced audiences for a hundred years and show no sign of losing their appeal any time soon.  Join us as we take a tour through the history of musicals on film from Hollywood to the rest of the world. With Screenwriter\, Professor and Steamboat Treasure Paul McCudden
URL:https://wildhorsearts.org/event/musicals-through-the-years-meet-me-in-st-louis/
LOCATION:Wildhorse Cinema & Arts\, 655 Marketplace Plaza\, Steamboat Springs\, CO\, 80487\, United States
ATTACH;FMTTYPE=image/png:https://wildhorsearts.org/wp-content/uploads/2026/02/Screenshot-2026-02-04-at-7.37.20-PM.png
END:VEVENT
BEGIN:VEVENT
DTSTART;TZID=UTC:20260313T180000
DTEND;TZID=UTC:20260313T220000
DTSTAMP:20260421T025239
CREATED:20260208T233350Z
LAST-MODIFIED:20260208T233350Z
UID:4582-1773424800-1773439200@wildhorsearts.org
SUMMARY:Heads All Empty – 2 Nights of Dead + Liquid Light Show
DESCRIPTION:March 13 & 14th. Film Screening 6:00pm – Music at 8:30pm both nights. Tickets March 13 Tickets March 14
URL:https://wildhorsearts.org/event/heads-all-empty-2-nights-of-dead-liquid-light-show/
LOCATION:Wildhorse Cinema & Arts\, 655 Marketplace Plaza\, Steamboat Springs\, CO\, 80487\, United States
ATTACH;FMTTYPE=image/jpeg:https://wildhorsearts.org/wp-content/uploads/2026/02/B0B06FCE-C4B1-447B-9DE0-5EA06B87054F.jpeg
END:VEVENT
BEGIN:VEVENT
DTSTART;TZID=UTC:20260313T190000
DTEND;TZID=UTC:20260313T210000
DTSTAMP:20260421T025239
CREATED:20260310T202607Z
LAST-MODIFIED:20260310T202734Z
UID:4633-1773428400-1773435600@wildhorsearts.org
SUMMARY:Jane Monheit Fundraising Concert for the Boys & Girls Club & Wildhorse Arts
DESCRIPTION:Jane Monheit Concert\nRaising Funds for Boys & Girls Club and Wildhorse Arts & Cinema\n\n\n\nEvent Overview\nThe Boys & Girls Club of Northwest Colorado and Prescription for the Arts proudly present Jane Monheit in Concert — an unforgettable evening of world-class jazz in support of youth mental health and creative healing. \nThis special performance raises funds for The Boys & Girls Club and Wildhorse Arts & Cinema’s Prescription for the Arts\, an innovative program that provides mental-health-supported arts experiences for youth and individuals navigating depression\, anxiety\, and isolation. Through partnerships with the Boys & Girls Club of Northwest Colorado\, Yampa Valley High School\, and community providers\, the program connects young people with professional artists for transformative one-on-one creative experiences. \nProceeds from the evening will be shared between both organizations to expand access to youth arts programming across Northwest Colorado — helping more young people discover confidence\, connection\, and healing through the arts. \nConcert takes place March 13\, 2026 at 7:00pm\nWildhorse Cinema & Arts – Take 5 Speakeasy\nComplimentary drinks provided. \nPlease note there are only 50 seats available for this event. You can RSVP HERE or donate above. This is a donation based event with suggested donation of $100 per person. \nArtist Spotlight – Jane Monheit\nInternationally acclaimed jazz and adult contemporary vocalist Jane Monheit is celebrated for her luminous voice and deep devotion to the Great American Songbook. With more than two decades of global touring\, twelve studio albums\, and countless collaborations with legendary musicians\, Jane has become one of the most beloved interpreters of American jazz standards. \nHer musical journey began in childhood\, studying woodwinds and piano\, performing in award-winning choirs\, and appearing in community theater on Long Island. At just 20 years old\, while a senior at the prestigious Manhattan School of Music\, Jane placed second in the renowned Thelonious Monk Competition (now the Hancock Competition)\, launching an extraordinary career almost overnight. \nBy age 22\, she was performing and recording alongside jazz icons including Tommy Flanagan\, Ron Carter\, and Kenny Barron. Her artistry has since led to collaborations with Terence Blanchard\, Ivan Lins\, John Pizzarelli\, Christian McBride\, Vince Mendoza\, and many others. She has appeared on major television programs including The Tonight Show\, Good Morning America\, CBS Sunday Morning\, and The View\, and her voice has been featured on notable film soundtracks such as Sky Captain and the World of Tomorrow and Never Let Me Go. \nJane continues to perform at the world’s most celebrated venues — from Carnegie Hall to the Hollywood Bowl to legendary jazz clubs including the Village Vanguard and Birdland. In addition to touring\, she mentors and educates students worldwide\, sharing the artistry and discipline that have defined her remarkable career. \nShe lives in Los Angeles with her husband\, drummer Rick Montalbano\, and their son. \n❤️ Impact\nEvery ticket purchased helps change a young life. \nFunds raised will directly support one-on-one creative experiences for youth working with professional artists — providing safe spaces for expression\, confidence building\, and emotional support. Together\, the Boys & Girls Club of Northwest Colorado and Prescription for the Arts are expanding access to the healing power of creativity\, ensuring that every child has the opportunity to be seen\, heard\, and supported. \n\nYour donation is your ticket! – DONATE HERE
URL:https://wildhorsearts.org/event/jane-monheit-fundraising-concert-for-the-boys-girls-club-wildhorse-arts/
LOCATION:Wildhorse Cinema & Arts\, 655 Marketplace Plaza\, Steamboat Springs\, CO\, 80487\, United States
ATTACH;FMTTYPE=image/png:https://wildhorsearts.org/wp-content/uploads/2026/03/Screenshot-2026-03-04-at-6.49.01-AM.png
END:VEVENT
BEGIN:VEVENT
DTSTART;TZID=UTC:20260314T180000
DTEND;TZID=UTC:20260314T220000
DTSTAMP:20260421T025239
CREATED:20260208T233504Z
LAST-MODIFIED:20260208T233504Z
UID:4585-1773511200-1773525600@wildhorsearts.org
SUMMARY:Heads All Empty – 2 Nights of Dead + Liquid Light Show
DESCRIPTION:March 13 & 14th. Film Screening 6:00pm – Music at 8:30pm both nights. Tickets March 13 Tickets March 14
URL:https://wildhorsearts.org/event/heads-all-empty-2-nights-of-dead-liquid-light-show-2/
LOCATION:Wildhorse Cinema & Arts\, 655 Marketplace Plaza\, Steamboat Springs\, CO\, 80487\, United States
ATTACH;FMTTYPE=image/jpeg:https://wildhorsearts.org/wp-content/uploads/2026/02/B0B06FCE-C4B1-447B-9DE0-5EA06B87054F.jpeg
END:VEVENT
BEGIN:VEVENT
DTSTART;TZID=UTC:20260319T190000
DTEND;TZID=UTC:20260319T210000
DTSTAMP:20260421T025239
CREATED:20260208T233604Z
LAST-MODIFIED:20260208T233604Z
UID:4587-1773946800-1773954000@wildhorsearts.org
SUMMARY:The Moose Storytelling Series – Lucky or Super Unlucky Stories
DESCRIPTION:Join us One Thursday a Month at 7:00pm for a themed storytelling evening in a space for friends\, sharing\, and community. Come to share or come to listen!
URL:https://wildhorsearts.org/event/the-moose-storytelling-series-lucky-or-super-unlucky-stories/
LOCATION:Wildhorse Cinema & Arts\, 655 Marketplace Plaza\, Steamboat Springs\, CO\, 80487\, United States
ATTACH;FMTTYPE=image/jpeg:https://wildhorsearts.org/wp-content/uploads/2026/02/Moose-Storytelling-Series-2.jpg
END:VEVENT
BEGIN:VEVENT
DTSTART;TZID=UTC:20260322T100000
DTEND;TZID=UTC:20260322T120000
DTSTAMP:20260421T025239
CREATED:20260208T234917Z
LAST-MODIFIED:20260208T235026Z
UID:4601-1774173600-1774180800@wildhorsearts.org
SUMMARY:INSIGHT: Art for Climate Action - Kids Create Day
DESCRIPTION:
URL:https://wildhorsearts.org/event/insight-art-for-climate-action-kids-create-day/
LOCATION:Wildhorse Cinema & Arts\, 655 Marketplace Plaza\, Steamboat Springs\, CO\, 80487\, United States
ATTACH;FMTTYPE=image/png:https://wildhorsearts.org/wp-content/uploads/2026/02/Insight-Kids-Create-Day-social-media-post.png
END:VEVENT
BEGIN:VEVENT
DTSTART;TZID=UTC:20260325T190000
DTEND;TZID=UTC:20260325T210000
DTSTAMP:20260421T025239
CREATED:20260323T220435Z
LAST-MODIFIED:20260323T220435Z
UID:4669-1774465200-1774472400@wildhorsearts.org
SUMMARY:Musicals Through the Years: The Original Willy Wonka - 50 years later!
DESCRIPTION:The world is astounded when Willy Wonka\, for years a recluse in his factory\, announces that five lucky people will be given a tour of the factory\, shown all the secrets of his amazing candy\, and one will win a lifetime supply of Wonka chocolate. Nobody wants the prize more than young Charlie\, but as his family is so poor that buying even one bar of chocolate is a treat\, buying enough bars to find one of the five golden tickets is unlikely in the extreme. But in movieland\, magic can happen. Charlie\, along with four somewhat odious other children\, get the chance of a lifetime and a tour of the factory. Along the way\, mild disasters befall each of the odious children\, but can Charlie beat the odds and grab the brass ring?
URL:https://wildhorsearts.org/event/musicals-through-the-years-the-original-willy-wonka-50-years-later/
LOCATION:Wildhorse Cinema & Arts\, 655 Marketplace Plaza\, Steamboat Springs\, CO\, 80487\, United States
ATTACH;FMTTYPE=image/png:https://wildhorsearts.org/wp-content/uploads/2026/03/Screenshot-2026-03-23-at-4.02.34-PM.png
END:VEVENT
BEGIN:VEVENT
DTSTART;TZID=UTC:20260326T183000
DTEND;TZID=UTC:20260326T200000
DTSTAMP:20260421T025239
CREATED:20260323T215644Z
LAST-MODIFIED:20260323T215644Z
UID:4662-1774549800-1774555200@wildhorsearts.org
SUMMARY:Eco Art Collective Meeting - Western Resilience
DESCRIPTION:Artists: Join the Eco Art Collective meeting in the Take 5 Room at Wildhorse Cinema & Arts! Meet other artists while sharing and discussing past and future projects related to climate action. We hope you’ll leave feeling empowered to collaborate and connect over all things environment and art! \nEvent is free\, and light refreshments will be provided. This event is part of the Insight: Art for Climate Action program. To learn more about Insight\, visit westernresilience.org/insight.
URL:https://wildhorsearts.org/event/eco-art-collective-meeting-western-resilience/
LOCATION:Wildhorse Cinema & Arts\, 655 Marketplace Plaza\, Steamboat Springs\, CO\, 80487\, United States
ATTACH;FMTTYPE=image/png:https://wildhorsearts.org/wp-content/uploads/2026/03/Screenshot-2026-03-23-at-3.56.18-PM.png
END:VEVENT
BEGIN:VEVENT
DTSTART;TZID=UTC:20260327T173000
DTEND;TZID=UTC:20260327T173000
DTSTAMP:20260421T025239
CREATED:20260323T215433Z
LAST-MODIFIED:20260324T194022Z
UID:4659-1774632600-1774632600@wildhorsearts.org
SUMMARY:WOMEN’S BIKE FILM NIGHT benefitting RCR & TCE
DESCRIPTION:Join Us for Women’s Bike Film Night benefitting Routt County Riders & The Cycle Effect!\nGet ready for an inspiring evening featuring films all about women on bikes. Whether you’re a cyclist\, film lover\, or just want to hang with some rad ladies\, this event is the perfect way to celebrate female riders and their stories. Everyone is welcome. \nWe will be showing the series “Women On Bikes” by Portland-based film festival Filmed by Bike. This excellect selection of short films is all about celebrating diverse and empowering stories of female cyclists\, from mountain biking to city commuting. We will watch as women reclaim space\, challenge industry norms\, and showcase “bike joy”. ♥️ \nGrab your gals\, enter in our huge prize drawing\, and enjoy a family-friendly night full of bike love while supporting two amazing nonprofits! \nNo refunds\, but you are welcome to transfer your ticket to someone else if you can no longer make it. Kiddos are free. Purchase tickets in advance here: https://www.eventbrite.com/e/1982306105925
URL:https://wildhorsearts.org/event/womens-bike-film-night-benefitting-rcr-tce/
LOCATION:Wildhorse Cinema & Arts\, 655 Marketplace Plaza\, Steamboat Springs\, CO\, 80487\, United States
ATTACH;FMTTYPE=image/png:https://wildhorsearts.org/wp-content/uploads/2026/03/Screenshot-2026-03-23-at-3.54.13-PM.png
END:VEVENT
BEGIN:VEVENT
DTSTART;TZID=UTC:20260327T190000
DTEND;TZID=UTC:20260327T200000
DTSTAMP:20260421T025239
CREATED:20260323T215947Z
LAST-MODIFIED:20260324T194126Z
UID:4665-1774638000-1774641600@wildhorsearts.org
SUMMARY:Project Hail Mary
DESCRIPTION:Don’t miss the movie everyone is talking about!! Science teacher Ryland Grace wakes up alone on a spaceship light-years from Earth. As his memory returns\, he uncovers a mission to stop a mysterious substance killing the sun\, and save Earth. An unexpected friendship may be the key. \nSPRING MOVIE HIT \nStarring Ryan Gosling
URL:https://wildhorsearts.org/event/project-hail-mary/
LOCATION:Wildhorse Cinema & Arts\, 655 Marketplace Plaza\, Steamboat Springs\, CO\, 80487\, United States
ATTACH;FMTTYPE=image/png:https://wildhorsearts.org/wp-content/uploads/2026/03/Screenshot-2026-03-23-at-3.57.26-PM.png
END:VEVENT
BEGIN:VEVENT
DTSTART;TZID=UTC:20260328T130000
DTEND;TZID=UTC:20260328T130000
DTSTAMP:20260421T025239
CREATED:20260323T215107Z
LAST-MODIFIED:20260324T193721Z
UID:4656-1774702800-1774702800@wildhorsearts.org
SUMMARY:Routt County Republicans Present a Free Screening of Melania
DESCRIPTION:Join the Routt County Republicans for a free public screening of Melania\, March 28 at 1pm. An intimate chronicle offers a rare glimpse into the life of Melania Trump\, exploring her role as First Lady and her relationship with the President.
URL:https://wildhorsearts.org/event/routt-county-republicans-present-a-free-screening-of-melania/
LOCATION:Wildhorse Cinema & Arts\, 655 Marketplace Plaza\, Steamboat Springs\, CO\, 80487\, United States
ATTACH;FMTTYPE=image/png:https://wildhorsearts.org/wp-content/uploads/2026/03/Screenshot-2026-03-23-at-3.49.06-PM.png
END:VEVENT
END:VCALENDAR