BEGIN:VCALENDAR
VERSION:2.0
PRODID:-//Wildhorse Steamboat CO - ECPv6.15.20//NONSGML v1.0//EN
CALSCALE:GREGORIAN
METHOD:PUBLISH
X-ORIGINAL-URL:https://wildhorsearts.org
X-WR-CALDESC:Events for Wildhorse Steamboat CO
REFRESH-INTERVAL;VALUE=DURATION:PT1H
X-Robots-Tag:noindex
X-PUBLISHED-TTL:PT1H
BEGIN:VTIMEZONE
TZID:UTC
BEGIN:STANDARD
TZOFFSETFROM:+0000
TZOFFSETTO:+0000
TZNAME:UTC
DTSTART:20250101T000000
END:STANDARD
END:VTIMEZONE
BEGIN:VEVENT
DTSTART;TZID=UTC:20260522T183000
DTEND;TZID=UTC:20260522T183000
DTSTAMP:20260421T125529
CREATED:20260210T155926Z
LAST-MODIFIED:20260323T214740Z
UID:4609-1779474600-1779474600@wildhorsearts.org
SUMMARY:The Risan Project Presents: Cresta Alta
DESCRIPTION:The Risan Project Presents: Cresta Alta\nA glaciological expedition-based climate science and sustainability documentary film screening + Q&A with director\, producer and cinematographer\, Todd Anders Johnson\n\nWildhorse Cinema\n655 Marketplace Plaza\nSteamboat Springs\, CO\n6:30pm doors + meet & greet\n7:00-7:15pm Introductions from regional speakers\n7:15pm Cresta Alta\n8:15pm Q&A\n\nIn Cresta Alta\, join filmmaker\, Todd Anders Johnson\, on a 10 day backpacking expedition to the McCall Glacier in the Alaskan Arctic National Wildlife Refuge with Dr. Matt Nolan; setting up basecamp at the Gamma Glacier in the Olivares Basin\, high in the Chilean Andes with Dr. Sebastian Mernild; trekking to Lake Pacacocha\, situated at 15\,000 feet in elevation\, in the Peruvian Cordillera Blanca with Dr. Rachel Chisolm; joining the Icelandic Glaciological Society jeeping up the Vatnajökull ice cap to conduct ice core drilling and meeting with the President of Iceland to discuss his experiences and perspectives on climate change impacts in Iceland. \n\n\nThe Cresta Alta Film Tour has been engaging audiences throughout the US with arts councils\, colleges\, high schools and museums with Risan Media’s expedition-based climate change documentary film titled\, Cresta Alta\, that chronicles a journey to Alaska\, Iceland\, Chile and Peru to document glaciological research expeditions and sustainability. The screenings are followed by a Risan Studies Q&A with environmental filmmaker\, Todd Anders Johnson\, who studied development issues at the University of Washington. With a foundational perspective that more sustainable policies are imperative and that there are effective renewable and sustainable options to employ regionally\, nationally and globally\, Todd has dedicated himself to the arts in creating entertaining and educational film\, music and events. \n\nIn Cresta Alta\, Todd takes a more urgent approach\, following scientists as they study glaciers and observe firsthand the rapid changes happening to these ecosystems. “Cresta Alta was an adventure story\, a research expedition\, and a personal journey all in one\,” Todd said. “I wanted to tell the story of these scientists and show how their research is helping us understand the very real effects of climate change. It’s all about trying to make the science more accessible\, but also making it emotionally compelling\, so people can understand why this is so important.” – The Risan Project Tour: Todd Johnson Brings Environmental Advocacy to Fairbanks \nThe University of Alaska Fairbanks Sun Star\, By Amber McCain \n“Todd’s film documenting his travels\, his interviews with leading scientists across the world\, and the amazing cinematography was a great experience for our students. There were multiple entry points for discussion\, including from scientific\, creative arts\, geopolitical\, and humanistic angles. I highly recommend Todd’s work for any school looking to bring real-world examples of the impact of climate change\, and what the next generation can do about it.” \nChristopher Young\, North Country Union High School Principal\, Newport\, VT \n  \n  \nCresta Alta Film Website\nwww.crestaaltafilm.com\n\nCresta Alta Film Trailer \nhttps://youtu.be/BGwX82nF54Q \n  \n\n  \nCresta Alta Film Behind the Scenes \nhttps://youtu.be/Tctx_MMaKmQ
URL:https://wildhorsearts.org/event/4609/
LOCATION:Wildhorse Cinema & Arts\, 655 Marketplace Plaza\, Steamboat Springs\, CO\, 80487\, United States
ATTACH;FMTTYPE=image/jpeg:https://wildhorsearts.org/wp-content/uploads/2026/02/image001.jpg
END:VEVENT
END:VCALENDAR