BEGIN:VCALENDAR
VERSION:2.0
PRODID:-//Wildhorse Steamboat CO - ECPv6.15.20//NONSGML v1.0//EN
CALSCALE:GREGORIAN
METHOD:PUBLISH
X-WR-CALNAME:Wildhorse Steamboat CO
X-ORIGINAL-URL:https://wildhorsearts.org
X-WR-CALDESC:Events for Wildhorse Steamboat CO
REFRESH-INTERVAL;VALUE=DURATION:PT1H
X-Robots-Tag:noindex
X-PUBLISHED-TTL:PT1H
BEGIN:VTIMEZONE
TZID:UTC
BEGIN:STANDARD
TZOFFSETFROM:+0000
TZOFFSETTO:+0000
TZNAME:UTC
DTSTART:20240101T000000
END:STANDARD
END:VTIMEZONE
BEGIN:VEVENT
DTSTART;TZID=UTC:20250830T190000
DTEND;TZID=UTC:20250830T210000
DTSTAMP:20260421T210732
CREATED:20250819T023115Z
LAST-MODIFIED:20250823T132541Z
UID:4086-1756580400-1756587600@wildhorsearts.org
SUMMARY:Greg Hahn and Sam Adams: A Night of Comedy
DESCRIPTION:RSVP \nGreg Hahn’s crazed joke delivery is a hallmark on the nationally syndicated Bob and Tom Radio Show. He is also a stalwart\, another word he doesn’t know. On television\, Greg ran for President\, played unhinged drum solos and had his own 15 second podcast on Comedy Central’s Tosh.0. Other early TV appearances included Comics Unleashed with Byron Allen\, Premium Blend\, 30 Seconds to Fame\, Make Me Laugh\, Pulp Comics\, Star Search\, Cedric the Entertainer Presents and Ed McMahon’s Next Big Star (winner). Greg also appeared on Late Night with Conan O’Brien and was featured on Bob and Tom’s Comedy Central Special. Before comedy\, Greg was an Officer in the Marines and worked in several serious jobs where he refused to be serious.  \n  \nAbout Sam Adams \nIn 2018 Sam’s popularity catapulted when the “True Color” clip from his 2017 Dry Bar Comedy special went viral — with more than 10 million social media views in less than 72 hours. Since\, the clip has reached more than 35 million views on Facebook alone. Arkansas Democrat-Gazette offered this glowing review of Sam’s comedy performance in 2019: “Known for his prize-winning comedy and casual delivery devoid of profanity and vulgarity\, (Adams) spent two hours entertaining a full house that belly-laughed and applauded too many times to count. “If it’s true that laughter is the best medicine\, he administered his healing brand intravenously for two solid hours.”  \n$20 suggested donation – RSVP
URL:https://wildhorsearts.org/event/greg-hahn-and-sam-adams-a-night-of-comedy/
LOCATION:CO
ATTACH;FMTTYPE=image/png:https://wildhorsearts.org/wp-content/uploads/2025/08/Screenshot-2025-08-18-at-8.29.13-PM.png
END:VEVENT
BEGIN:VEVENT
DTSTART;TZID=UTC:20250828T190000
DTEND;TZID=UTC:20250828T210000
DTSTAMP:20260421T210732
CREATED:20250730T035942Z
LAST-MODIFIED:20250730T035942Z
UID:4066-1756407600-1756414800@wildhorsearts.org
SUMMARY:Moose Storytelling Series
DESCRIPTION:Join us for Steamboat’s take on the Moth Storytelling Series with host Gretchen. Theme is Best Family Story.
URL:https://wildhorsearts.org/event/moose-storytelling-series/
LOCATION:CO
ATTACH;FMTTYPE=image/png:https://wildhorsearts.org/wp-content/uploads/2025/04/ChatGPT-Image-Apr-20-2025-at-08_58_19-AM.png
END:VEVENT
BEGIN:VEVENT
DTSTART;TZID=UTC:20250824T190000
DTEND;TZID=UTC:20250824T190000
DTSTAMP:20260421T210732
CREATED:20250713T185759Z
LAST-MODIFIED:20250713T185950Z
UID:3992-1756062000-1756062000@wildhorsearts.org
SUMMARY:Ryan O'Flanagan Comedy Night
DESCRIPTION:Come join us for a hilarious night of laughs with the one and only Ryan O’Flanagan! Get ready for a night filled with comedy\, fun\, and good vibes at Wildhorse Cinema. Grab your friends and get ready to laugh until your sides hurt! \nRyan is a Los Angeles-based comedian\, actor\, and writer. He has appeared on shows like New Girl\, Abbott Elementary\, Dave\, American Vandal\, The Orville\, and Players. He has voiced for American Dad!\, Hulu’s The Mighty Ones\, and Disney Channel’s The Owl House. His sketch group\, Dead Kevin\, has been featured on Tosh.0 and Comedy Central Digital. \nRyan has done stand up on Last Call with Carson Daly\, Adam Devine’s House Party\, and had a Comedy Central Half Hour which aired in 2018. He’s performed at festivals like JFL Montreal\, Life is Beautiful\, and Vodafone Comedy Fest in Dublin. He partnered with Funny or Die to produce his viral “Overly Excited Tourist” series. \nHis movie recently was Birdies: https://www.imdb.com/title/tt14349120/ \n21+\n$20 pre / $25 at the door \n7pm
URL:https://wildhorsearts.org/event/ryan-oflanagan-comedy-night/
LOCATION:CO
ATTACH;FMTTYPE=image/png:https://wildhorsearts.org/wp-content/uploads/2025/07/Screenshot-2025-07-13-at-12.56.59-PM.png
END:VEVENT
BEGIN:VEVENT
DTSTART;TZID=UTC:20250824T130000
DTEND;TZID=UTC:20250824T150000
DTSTAMP:20260421T210732
CREATED:20250730T035712Z
LAST-MODIFIED:20250730T035712Z
UID:4064-1756040400-1756047600@wildhorsearts.org
SUMMARY:Harmonie House Sensory Friendly Movie
DESCRIPTION:Lights up\, sound down. Join us for this sensory friendly film showing!
URL:https://wildhorsearts.org/event/harmonie-house-sensory-friendly-movie/
LOCATION:CO
ATTACH;FMTTYPE=image/png:https://wildhorsearts.org/wp-content/uploads/2025/04/Screenshot-2025-04-09-at-4.34.19-PM.png
END:VEVENT
BEGIN:VEVENT
DTSTART;TZID=UTC:20250816T190000
DTEND;TZID=UTC:20250816T210000
DTSTAMP:20260421T210732
CREATED:20250730T034650Z
LAST-MODIFIED:20250804T160315Z
UID:4056-1755370800-1755378000@wildhorsearts.org
SUMMARY:Songwriter Series is BACK with Kelly McGuire
DESCRIPTION:Arty Smith curates the new iteration of the Songwriter Series at Wildhorse Cinema & Arts \nIn Kelly McGuire’s music\, you can hear a little country\, a little Buffett and a whole lot of heart. Kelly\nmade a living at music for 15 years before starting to write songs. Now 5 CDs later with\nsongwriting awards\, an Album of the Year award from the Texas Music Awards as well as\nnominations for Entertainer of the Year &amp; Producer of the Year\, he is living a dream. He currently\nresides near Galveston Bay and many of his songs reflect the Gulf\, Boats\, Islands\, Sailing\,\nBeaches\, and Belize. \nIn addition to being a talented musician and performer\, Kelly has become a successful artist as\nwell. His show will also feature an exhibit of some of his finest art works. \nBuy Tickets $20 \n 
URL:https://wildhorsearts.org/event/songwriter-series-is-back-with-kelly-mcguire/
LOCATION:CO
ATTACH;FMTTYPE=image/png:https://wildhorsearts.org/wp-content/uploads/2025/07/Screenshot-2025-07-29-at-9.45.46-PM.png
END:VEVENT
BEGIN:VEVENT
DTSTART;TZID=UTC:20250810T120000
DTEND;TZID=UTC:20250810T120000
DTSTAMP:20260421T210732
CREATED:20250730T035234Z
LAST-MODIFIED:20250730T144840Z
UID:4059-1754827200-1754827200@wildhorsearts.org
SUMMARY:Movies and Mimosas: The Best Little Whorehouse in Texas
DESCRIPTION:Founded in 1910 just outside of the city limits of Gilbert located in Lanville County\, Texas\, the Chicken Ranch has for generations been known as the best little whorehouse in Texas for its wholesome fun\, strict moral code\, and cleanliness\, all perpetuated by its original owner\, Miss Wulla Jean. Seven years ago\, Miss Wulla Jean died\, leaving the Chicken Ranch to her favorite working girl\, Miss Mona Stangley\, who wants to keep the same traditions of Miss Wulla Jean. The Chicken Ranch has always had the unofficial blessing of the local authorities\, who see the ranch providing an important community service\, one which most in local authority have used at one time or another in their lives. In fact\, Miss Mona and Lanville County Sheriff Ed Earl Dodd have been in a relationship for years\, Ed Earl\, who is Miss Mona’s protector\, albeit one with a hot temper and good ol’ boy attitude that doesn’t exactly match the needs of his law upholding position. That blessing may change when television personality and consumer watchdog\, Melvin P. Thorpe\, one of the most powerful men in the state\, starts an on-air exposé of the illegal activities at the Chicken Ranch\, the exposé which includes Ed Earl’s role in letting it happen. Ed Earl and Miss Mona’s relationship goes through some difficult times on how to deal with this issue\, especially with the upcoming annual party night with the players following the Thanksgiving Day football game between the University of Texas and Texas A&M\, this party which is arguably the Chicken Ranch’s busiest night of the year\, and one filled with tradition for the ranch and the participating schools. Will the Chicken Ranch be able to remain open especially in light of a spineless Governor who sways to the direction of polls\, and will Ed Earl and Miss Mona’s relationship be able to withstand the pressure?—Huggo
URL:https://wildhorsearts.org/event/movies-and-mimosas-the-best-little-whorehouse-in-texas/
LOCATION:CO
ATTACH;FMTTYPE=image/png:https://wildhorsearts.org/wp-content/uploads/2025/07/Screenshot-2025-07-29-at-9.51.10-PM.png
END:VEVENT
BEGIN:VEVENT
DTSTART;TZID=UTC:20250809T210000
DTEND;TZID=UTC:20250809T230000
DTSTAMP:20260421T210732
CREATED:20250730T033853Z
LAST-MODIFIED:20250730T033853Z
UID:4051-1754773200-1754780400@wildhorsearts.org
SUMMARY:Video Game Tournament
DESCRIPTION:Join Wildhorse Steamboat’s General Manager\, Bradley for a rocking’ video game tournament.
URL:https://wildhorsearts.org/event/video-game-tournament-2/
LOCATION:CO
ATTACH;FMTTYPE=image/jpeg:https://wildhorsearts.org/wp-content/uploads/2025/06/Game-Night-jonathan-borba--scaled.jpg
END:VEVENT
BEGIN:VEVENT
DTSTART;TZID=UTC:20250809T100000
DTEND;TZID=UTC:20250809T113000
DTSTAMP:20260421T210732
CREATED:20250730T034305Z
LAST-MODIFIED:20250730T034305Z
UID:4053-1754733600-1754739000@wildhorsearts.org
SUMMARY:Arts for All Drop In Classes
DESCRIPTION:Join Carly Gilliand for Music Exploration- music & movement\, singing & instruments. Donations Welcome.
URL:https://wildhorsearts.org/event/arts-for-all-drop-in-classes/
LOCATION:CO
ATTACH;FMTTYPE=image/jpeg:https://wildhorsearts.org/wp-content/uploads/2025/07/jason-rosewell-ASKeuOZqhYU-unsplash-scaled.jpg
END:VEVENT
BEGIN:VEVENT
DTSTART;TZID=UTC:20250808T180000
DTEND;TZID=UTC:20250808T190000
DTSTAMP:20260421T210732
CREATED:20250804T231732Z
LAST-MODIFIED:20250804T231732Z
UID:4080-1754676000-1754679600@wildhorsearts.org
SUMMARY:Space Force in Take 5
DESCRIPTION:Don’t miss an intimate performance by Space Force at Take 5 in Wildhorse Cinema & Arts. Jazz music\, cool vibes. Don’t miss it. \n$10 at the door.
URL:https://wildhorsearts.org/event/space-force-in-take-5/
LOCATION:CO
ATTACH;FMTTYPE=image/png:https://wildhorsearts.org/wp-content/uploads/2025/08/SF-Flyer2-8_8.png
END:VEVENT
BEGIN:VEVENT
DTSTART;TZID=UTC:20250807T080000
DTEND;TZID=UTC:20250807T170000
DTSTAMP:20260421T210732
CREATED:20250730T033716Z
LAST-MODIFIED:20250730T035358Z
UID:4048-1754553600-1754586000@wildhorsearts.org
SUMMARY:Bud Werner Memorial Library - Free Movie
DESCRIPTION:Join the Bud Werner Memorial Library for a Free Community movie. Family Friendly. Free Concessions included. Learn what happens when emotions get out of hand!
URL:https://wildhorsearts.org/event/bud-werner-memorial-library-free-movie/
LOCATION:CO
ATTACH;FMTTYPE=image/png:https://wildhorsearts.org/wp-content/uploads/2025/07/Screenshot-2025-07-29-at-9.36.46-PM.png
END:VEVENT
BEGIN:VEVENT
DTSTART;TZID=UTC:20250806T093000
DTEND;TZID=UTC:20250806T103000
DTSTAMP:20260421T210732
CREATED:20250730T033236Z
LAST-MODIFIED:20250730T033236Z
UID:4045-1754472600-1754476200@wildhorsearts.org
SUMMARY:Parkinsons of the Rockies: Move\, Smile\, Sing
DESCRIPTION:Music therapy for those living with Parkinsons
URL:https://wildhorsearts.org/event/parkinsons-of-the-rockies-move-smile-sing-2/
LOCATION:CO
ATTACH;FMTTYPE=image/png:https://wildhorsearts.org/wp-content/uploads/2025/07/Screenshot-2025-07-29-at-9.32.14-PM.png
END:VEVENT
BEGIN:VEVENT
DTSTART;TZID=UTC:20250805T190000
DTEND;TZID=UTC:20250805T210000
DTSTAMP:20260421T210732
CREATED:20250730T032924Z
LAST-MODIFIED:20250730T032924Z
UID:4043-1754420400-1754427600@wildhorsearts.org
SUMMARY:Trash Dance a Documentary
DESCRIPTION:“Sublime…a vibrant\, moving document of such an evanescent state of grace is a small miracle in itself.” —The Washington Post Choreographer Allison Orr finds beauty and grace in garbage trucks\, and in the unseen men and women who pick up our trash. Filmmaker Andrew Garrison follows Orr as she rides along with Austin sanitation workers on their daily routes to observe and later convince them to perform a most unlikely spectacle. On an abandoned airport runway\, two dozen trash collectors and their trucks deliver — for one night only — a stunningly beautiful and moving performance\, in front of an audience of thousands. \n\n$10.50
URL:https://wildhorsearts.org/event/trash-dance-a-documentary-2/
LOCATION:CO
ATTACH;FMTTYPE=image/png:https://wildhorsearts.org/wp-content/uploads/2025/07/Screenshot-2025-07-29-at-9.22.21-PM.png
END:VEVENT
BEGIN:VEVENT
DTSTART;TZID=UTC:20250805T130000
DTEND;TZID=UTC:20250805T150000
DTSTAMP:20260421T210732
CREATED:20250730T032809Z
LAST-MODIFIED:20250730T032809Z
UID:4041-1754398800-1754406000@wildhorsearts.org
SUMMARY:Trash Dance a Documentary
DESCRIPTION:“Sublime…a vibrant\, moving document of such an evanescent state of grace is a small miracle in itself.” —The Washington Post Choreographer Allison Orr finds beauty and grace in garbage trucks\, and in the unseen men and women who pick up our trash. Filmmaker Andrew Garrison follows Orr as she rides along with Austin sanitation workers on their daily routes to observe and later convince them to perform a most unlikely spectacle. On an abandoned airport runway\, two dozen trash collectors and their trucks deliver — for one night only — a stunningly beautiful and moving performance\, in front of an audience of thousands. \n\n$10.50
URL:https://wildhorsearts.org/event/trash-dance-a-documentary/
LOCATION:CO
ATTACH;FMTTYPE=image/png:https://wildhorsearts.org/wp-content/uploads/2025/07/Screenshot-2025-07-29-at-9.22.21-PM.png
END:VEVENT
BEGIN:VEVENT
DTSTART;TZID=UTC:20250805T100000
DTEND;TZID=UTC:20250805T120000
DTSTAMP:20260421T210732
CREATED:20250720T162045Z
LAST-MODIFIED:20250805T154327Z
UID:4000-1754388000-1754395200@wildhorsearts.org
SUMMARY:Independent Reading Club
DESCRIPTION:Read alone together with Off the Beaten Path Bookstore and Art with Altitude Magazine – at Wildhorse Cinema & Arts theater!!! \nWe’ll start off chatting about books we’re passionate about before moving on to solo reading time. \nThere will be coffee\, scones\, and cozy vibes.
URL:https://wildhorsearts.org/event/independent-reading-club/
LOCATION:CO
ATTACH;FMTTYPE=image/png:https://wildhorsearts.org/wp-content/uploads/2025/07/Screenshot-2025-07-20-at-10.19.38-AM.png
END:VEVENT
BEGIN:VEVENT
DTSTART;TZID=UTC:20250804T190000
DTEND;TZID=UTC:20250804T210000
DTSTAMP:20260421T210732
CREATED:20250730T032355Z
LAST-MODIFIED:20250730T032411Z
UID:4035-1754334000-1754341200@wildhorsearts.org
SUMMARY:Trash Dance Documentary
DESCRIPTION:“Sublime…a vibrant\, moving document of such an evanescent state of grace is a small miracle in itself.”\n—The Washington Post \nChoreographer Allison Orr finds beauty and grace in garbage trucks\, and in the unseen men and women who pick up our trash. Filmmaker Andrew Garrison follows Orr as she rides along with Austin sanitation workers on their daily routes to observe and later convince them to perform a most unlikely spectacle. On an abandoned airport runway\, two dozen trash collectors and their trucks deliver — for one night only — a stunningly beautiful and moving performance\, in front of an audience of thousands.
URL:https://wildhorsearts.org/event/trash-dance-documentary/
LOCATION:CO
ATTACH;FMTTYPE=image/png:https://wildhorsearts.org/wp-content/uploads/2025/07/Screenshot-2025-07-29-at-9.22.21-PM.png
END:VEVENT
BEGIN:VEVENT
DTSTART;TZID=UTC:20250803T120000
DTEND;TZID=UTC:20250803T170000
DTSTAMP:20260421T210732
CREATED:20250730T031948Z
LAST-MODIFIED:20250730T032042Z
UID:4032-1754222400-1754240400@wildhorsearts.org
SUMMARY:Hitchcock's The Birds
DESCRIPTION:Melanie Daniels is the modern rich socialite\, part of the jet-set who always gets what she wants. When lawyer Mitch Brenner sees her in a pet shop\, he plays something of a practical joke on her\, and she decides to return the favor. She drives about an hour north of San Francisco to Bodega Bay\, where Mitch spends the weekends with his mother Lydia and younger sister Cathy. Soon after her arrival\, however\, the birds in the area begin to act strangely. A seagull attacks Melanie as she is crossing the bay in a small boat\, and then\, Lydia finds her neighbor dead\, obviously the victim of a bird attack. Soon\, birds in the hundreds and thousands are attacking anyone they find out of doors. There is no explanation as to why this might be happening\, and as the birds continue their vicious attacks\, survival becomes the priority.—garykmcd
URL:https://wildhorsearts.org/event/hitchcocks-the-birds/
LOCATION:CO
ATTACH;FMTTYPE=image/png:https://wildhorsearts.org/wp-content/uploads/2025/07/Screenshot-2025-07-29-at-9.18.39-PM.png
END:VEVENT
BEGIN:VEVENT
DTSTART;TZID=UTC:20250802T183000
DTEND;TZID=UTC:20250802T200000
DTSTAMP:20260421T210732
CREATED:20250730T031645Z
LAST-MODIFIED:20250730T031658Z
UID:4028-1754159400-1754164800@wildhorsearts.org
SUMMARY:Holding Liat - Documentary
DESCRIPTION:Tisha B’Av Film Screening Brings Story of Survival\, Empathy\, and Hope to Steamboat Springs\nSteamboat Springs\, CO – In a special observance of Tisha B’Av\, the Jewish day of mourning\, Har Mishpacha: The Jewish Congregation of Steamboat Springs invites the broader community to a screening of the powerful new documentary Holding Liat\, followed by a community discussion.\nThe screening will take place on Saturday\, August 2\, 2025 at 6:30 PM at Wildhorse Cinemas. Tickets are $18 in advance or $24 at the door\, with limited seating available. Tickets can be purchased online here:\nhttps://shalomcloud.online/purchase?enc_name=SGFyX01pc2hwYWNoYQ==\nHolding Liat tells the story of Liat Atzili\, an Israeli woman taken captive during the October 7th attacks and held in Gaza. The film weaves together Liat’s firsthand account with her family’s journey to advocate for her release amidst the trauma of war and social unrest. What sets her story apart is the radical empathy she maintains for the suffering of others… including her captors.\n“This story changed me\,” said Rabbi Kolby Morris-Dahary of Har Mishpacha\, who met Liat last summer while studying at the Shalom Hartman Institute in Jerusalem. “What struck me most was her ability to hold compassion even in the face of unimaginable pain. Her story reminds us that there has to be a way forward… a way out of hatred\, and toward peace.”\nThe evening falls on Tisha B’Av\, a day commemorating destruction\, exile\, and tragedy throughout Jewish history. Organizers believe the film offers a unique opportunity to honor that legacy of grief while pointing toward a more hopeful and compassionate future.\nThe screening will be followed by a facilitated talk-back discussion\, offering attendees space to reflect\, connect\, and explore the themes of empathy\, justice\, and resilience.\n\nEvent Details:\nWhat: Holding Liat Film Screening & Community Conversation\nWhen: Saturday\, August 2\, 2025 at 6:30 PM\nWhere: Wildhorse Cinemas\, Steamboat Springs\, CO\nTickets: $18 advance / $24 at the door\nPurchase link: https://shalomcloud.online/purchase?enc_name=SGFyX01pc2hwYWNoYQ==\nHosted by: Har Mishpacha: The Jewish Congregation of Steamboat Springs & STAND (Steamboat Team to Disrupt Antisemitism and Discrimination)\nThis event is open to all. For more information\, contact Alexa Taylor at alexa@harmishpacha.org\nAbout Har Mishpacha\nHar Mishpacha is the Jewish Congregation of Steamboat Springs\, Colorado. Rooted in inclusivity\, pluralism\, and community partnership\, Har Mishpacha is committed to Jewish life\, learning\, and values and to building a more compassionate world for all.
URL:https://wildhorsearts.org/event/holding-liat-documentary/
LOCATION:CO
ATTACH;FMTTYPE=image/png:https://wildhorsearts.org/wp-content/uploads/2025/07/Screenshot-2025-07-29-at-9.15.12-PM.png
END:VEVENT
BEGIN:VEVENT
DTSTART;TZID=UTC:20250802T100000
DTEND;TZID=UTC:20250802T113000
DTSTAMP:20260421T210732
CREATED:20250730T031149Z
LAST-MODIFIED:20250730T031149Z
UID:4026-1754128800-1754134200@wildhorsearts.org
SUMMARY:Art for All - Drop in Art Classes
DESCRIPTION:Join abstract artist Marion Kahn for this incredible art class! Donations welcome.
URL:https://wildhorsearts.org/event/art-for-all-drop-in-art-classes-5/
LOCATION:CO
ATTACH;FMTTYPE=image/png:https://wildhorsearts.org/wp-content/uploads/2025/07/Screenshot-2025-07-01-at-8.11.21-AM.png
END:VEVENT
BEGIN:VEVENT
DTSTART;TZID=UTC:20250801T150000
DTEND;TZID=UTC:20250801T160000
DTSTAMP:20260421T210732
CREATED:20250730T030942Z
LAST-MODIFIED:20250730T030942Z
UID:4023-1754060400-1754064000@wildhorsearts.org
SUMMARY:All Arts Week Reception in the Lobby
DESCRIPTION:Join us as we kick off All Arts Week with some sweet treats\, a taste of artwork from local artists and info on how to access exclusive events during the week.
URL:https://wildhorsearts.org/event/all-arts-week-reception-in-the-lobby/
LOCATION:CO
ATTACH;FMTTYPE=image/png:https://wildhorsearts.org/wp-content/uploads/2025/07/AAWlogo.png
END:VEVENT
BEGIN:VEVENT
DTSTART;TZID=UTC:20250731T190000
DTEND;TZID=UTC:20250731T190000
DTSTAMP:20260421T210732
CREATED:20250701T142534Z
LAST-MODIFIED:20250701T142655Z
UID:3942-1753988400-1753988400@wildhorsearts.org
SUMMARY:Rodeo in Film: Sweethearts of the Prison Rodeo
DESCRIPTION:Join film expert Paul McCudden for a discussion on Rodeo in Film followed by a movie.
URL:https://wildhorsearts.org/event/rodeo-in-film-sweethearts-of-the-prison-rodeo/
LOCATION:CO
ATTACH;FMTTYPE=image/png:https://wildhorsearts.org/wp-content/uploads/2025/06/ChatGPT-Image-May-31-2025-at-11_06_33-PM.png
END:VEVENT
BEGIN:VEVENT
DTSTART;TZID=UTC:20250728T100000
DTEND;TZID=UTC:20250728T113000
DTSTAMP:20260421T210732
CREATED:20250713T174603Z
LAST-MODIFIED:20250713T174607Z
UID:3984-1753696800-1753702200@wildhorsearts.org
SUMMARY:Slow Stitching
DESCRIPTION:Make a patriotic mini-quilt. Join Alexia to learn about hand sewing\, quilting and embroidery. Reduce stress\, practice mindfulness and learn a new skill. Slow stitching is for all ages! Kids and adults welcome. Drop in $50. $100 all month. \n10:00am -11:30am or 2:00-3:30pm
URL:https://wildhorsearts.org/event/slow-stitching-3/
LOCATION:CO
ATTACH;FMTTYPE=image/jpeg:https://wildhorsearts.org/wp-content/uploads/2025/07/July-Slow-Stitch-2.jpg
END:VEVENT
BEGIN:VEVENT
DTSTART;TZID=UTC:20250726T130000
DTEND;TZID=UTC:20250726T130000
DTSTAMP:20260421T210732
CREATED:20250701T142351Z
LAST-MODIFIED:20250701T143052Z
UID:3940-1753534800-1753534800@wildhorsearts.org
SUMMARY:Sensory Friendly Movie with Harmonie House
DESCRIPTION:Lights up\, sound down – enjoy an inclusive family-friendly film!
URL:https://wildhorsearts.org/event/sensory-friendly-movie-with-harmonie-house/
LOCATION:CO
ATTACH;FMTTYPE=image/png:https://wildhorsearts.org/wp-content/uploads/2025/04/Screenshot-2025-04-09-at-4.34.19-PM.png
END:VEVENT
BEGIN:VEVENT
DTSTART;TZID=UTC:20250726T100000
DTEND;TZID=UTC:20250726T113000
DTSTAMP:20260421T210732
CREATED:20250701T142224Z
LAST-MODIFIED:20250701T142224Z
UID:3937-1753524000-1753529400@wildhorsearts.org
SUMMARY:Art for All - Drop in art classes
DESCRIPTION:Join Steamboat Springs local artist Susan Corser for an all ages – all experience art experience. Donations appreciated.
URL:https://wildhorsearts.org/event/art-for-all-drop-in-art-classes-4/
LOCATION:CO
ATTACH;FMTTYPE=image/png:https://wildhorsearts.org/wp-content/uploads/2025/07/Screenshot-2025-07-01-at-8.20.55-AM.png
END:VEVENT
BEGIN:VEVENT
DTSTART;TZID=UTC:20250725T193000
DTEND;TZID=UTC:20250725T220000
DTSTAMP:20260421T210733
CREATED:20250720T153612Z
LAST-MODIFIED:20250720T153612Z
UID:3996-1753471800-1753480800@wildhorsearts.org
SUMMARY:Jam Session
DESCRIPTION:Join ERICK O’CAMPO\, ALFREDO JIMÉNEZ\, ETHAN\, RONAN and a DJ for a night of Latin Music
URL:https://wildhorsearts.org/event/jam-session/
LOCATION:CO
ATTACH;FMTTYPE=application/pdf:https://wildhorsearts.org/wp-content/uploads/2025/07/Jam-2.pdf
END:VEVENT
BEGIN:VEVENT
DTSTART;TZID=UTC:20250725T190000
DTEND;TZID=UTC:20250725T190000
DTSTAMP:20260421T210733
CREATED:20250701T141929Z
LAST-MODIFIED:20250701T142718Z
UID:3935-1753470000-1753470000@wildhorsearts.org
SUMMARY:Board Game Night
DESCRIPTION:Join Lucas for a family friendly night of board games and community!
URL:https://wildhorsearts.org/event/board-game-night-2/
LOCATION:CO
ATTACH;FMTTYPE=image/jpeg:https://wildhorsearts.org/wp-content/uploads/2025/03/andrey-metelev-DEuansgqjns-unsplash-scaled.jpg
END:VEVENT
BEGIN:VEVENT
DTSTART;TZID=UTC:20250724T190000
DTEND;TZID=UTC:20250724T190000
DTSTAMP:20260421T210733
CREATED:20250701T141758Z
LAST-MODIFIED:20250701T142726Z
UID:3933-1753383600-1753383600@wildhorsearts.org
SUMMARY:Moose Storytelling Series - First Times
DESCRIPTION:Based off of the NPR series The Moth\, this Steamboat style shares intimate stories filled with hilarity\, gravity and exploration. With host Gretchen Fleck.
URL:https://wildhorsearts.org/event/moose-storytelling-series-first-times/
LOCATION:CO
ATTACH;FMTTYPE=image/png:https://wildhorsearts.org/wp-content/uploads/2025/04/ChatGPT-Image-Apr-20-2025-at-08_58_19-AM.png
END:VEVENT
BEGIN:VEVENT
DTSTART;TZID=UTC:20250724T190000
DTEND;TZID=UTC:20250724T190000
DTSTAMP:20260421T210733
CREATED:20250701T141557Z
LAST-MODIFIED:20250701T142733Z
UID:3931-1753383600-1753383600@wildhorsearts.org
SUMMARY:Rodeo in Film - When Legends Die
DESCRIPTION:Join film expert Paul McCudden for a discussion on rodeo in film followed by a movie.
URL:https://wildhorsearts.org/event/rodeo-in-film-when-legends-die/
LOCATION:CO
ATTACH;FMTTYPE=image/png:https://wildhorsearts.org/wp-content/uploads/2025/06/ChatGPT-Image-May-31-2025-at-11_06_33-PM.png
END:VEVENT
BEGIN:VEVENT
DTSTART;TZID=UTC:20250723T093000
DTEND;TZID=UTC:20250723T103000
DTSTAMP:20260421T210733
CREATED:20250701T141423Z
LAST-MODIFIED:20250701T142743Z
UID:3928-1753263000-1753266600@wildhorsearts.org
SUMMARY:Parkinsons of the Rockies: Move\, Smile\, Sing
DESCRIPTION:Music therapy for those living with Parkinsons
URL:https://wildhorsearts.org/event/parkinsons-of-the-rockies-move-smile-sing/
LOCATION:CO
ATTACH;FMTTYPE=application/pdf:https://wildhorsearts.org/wp-content/uploads/2025/07/MSS-Steamboat-2.pdf
END:VEVENT
BEGIN:VEVENT
DTSTART;TZID=UTC:20250721T100000
DTEND;TZID=UTC:20250721T113000
DTSTAMP:20260421T210733
CREATED:20250713T174411Z
LAST-MODIFIED:20250713T174411Z
UID:3980-1753092000-1753097400@wildhorsearts.org
SUMMARY:Slow Stitching
DESCRIPTION:Make a patriotic mini-quilt. Join Alexia to learn about hand sewing\, quilting and embroidery. Reduce stress\, practice mindfulness and learn a new skill. Slow stitching is for all ages! Kids and adults welcome. Drop in $50. $100 all month. Cost includes kit. \n10:00am -11:30am. 2:00-3:30pm
URL:https://wildhorsearts.org/event/slow-stitching-2/
LOCATION:CO
ATTACH;FMTTYPE=image/jpeg:https://wildhorsearts.org/wp-content/uploads/2025/07/July-Slow-Stitch-1.jpg
END:VEVENT
BEGIN:VEVENT
DTSTART;TZID=UTC:20250719T100000
DTEND;TZID=UTC:20250719T113000
DTSTAMP:20260421T210733
CREATED:20250701T141220Z
LAST-MODIFIED:20250701T142753Z
UID:3924-1752919200-1752924600@wildhorsearts.org
SUMMARY:Art for All - Drop in Art Classes
DESCRIPTION:Join abstract artist Marion Kahn for this incredible art class! Donations welcome.
URL:https://wildhorsearts.org/event/art-for-all-drop-in-art-classes-3/
LOCATION:CO
ATTACH;FMTTYPE=image/png:https://wildhorsearts.org/wp-content/uploads/2025/07/Screenshot-2025-07-01-at-8.11.21-AM.png
END:VEVENT
END:VCALENDAR