BEGIN:VCALENDAR
VERSION:2.0
PRODID:-//Wildhorse Steamboat CO - ECPv6.15.20//NONSGML v1.0//EN
CALSCALE:GREGORIAN
METHOD:PUBLISH
X-ORIGINAL-URL:https://wildhorsearts.org
X-WR-CALDESC:Events for Wildhorse Steamboat CO
REFRESH-INTERVAL;VALUE=DURATION:PT1H
X-Robots-Tag:noindex
X-PUBLISHED-TTL:PT1H
BEGIN:VTIMEZONE
TZID:UTC
BEGIN:STANDARD
TZOFFSETFROM:+0000
TZOFFSETTO:+0000
TZNAME:UTC
DTSTART:20250101T000000
END:STANDARD
END:VTIMEZONE
BEGIN:VEVENT
DTSTART;TZID=UTC:20260527T190000
DTEND;TZID=UTC:20260527T210000
DTSTAMP:20260422T205615
CREATED:20260421T221643Z
LAST-MODIFIED:20260421T221643Z
UID:4756-1779908400-1779915600@wildhorsearts.org
SUMMARY:Summer Blockbuster Series -Jaws
DESCRIPTION:Join us for the Summer Blockbuster Series with Paul McCudden. Each movie include a brief introduction and Q&A session afterwards. You won’t want to miss this lineup! \n\n\n\nApril 8 \n“Back to the Future” \nRobert Zemeckis \n1985 \n\n\nApril 15 \n“E.T.” \nSteven Spielberg \n1981 \n\n\nApril 22 \n“Animal House” \nJohn Landis \n1978 \n\n\nApril 29 \n“Deliverance” \nJohn Boorman \n1972 \n\n\nMay 6 \n“Ghost” \nJerry Zucker \n1990 \n\n\nMay 13 \n“Airplane!” \nDavid Zucker \n1980 \n\n\nMay 20 \n“Forrest Gump” \nRobert Zemeckis \n1994 \n\n\nMay 27 \n“Jaws” \nSteven Spielberg \n1975 \n\n\nJune 3 \n“The Dark Knight” \nChristopher Nolan \n2008 \n\n\nJune 10 \n“Trading Places” \nJohn Landis \n1983 \n\n\nJune 17 \n“Batman” \nTim Burton \n1989 \n\n\nJune 24 \n“Barbie” \nGreta Gerwig \n2023 
URL:https://wildhorsearts.org/event/summer-blockbuster-series-jaws/
LOCATION:Wildhorse Cinema & Arts\, 655 Marketplace Plaza\, Steamboat Springs\, CO\, 80487\, United States
ATTACH;FMTTYPE=image/png:https://wildhorsearts.org/wp-content/uploads/2026/04/Screenshot-2026-04-21-at-4.16.14-PM.png
END:VEVENT
BEGIN:VEVENT
DTSTART;TZID=UTC:20260529T190000
DTEND;TZID=UTC:20260529T210000
DTSTAMP:20260422T205615
CREATED:20260421T222120Z
LAST-MODIFIED:20260421T222120Z
UID:4766-1780081200-1780088400@wildhorsearts.org
SUMMARY:Six for Six Cult Classic Series - Ghostbusters '84
DESCRIPTION:Six Weeks\, Six Movies\, Six Dollars. Join us for a series that will take you back to your glory days. Bring your friends to the movies that shaped a generation.
URL:https://wildhorsearts.org/event/six-for-six-cult-classic-series-ghostbusters-84/
LOCATION:Wildhorse Cinema & Arts\, 655 Marketplace Plaza\, Steamboat Springs\, CO\, 80487\, United States
ATTACH;FMTTYPE=image/png:https://wildhorsearts.org/wp-content/uploads/2026/04/WildhorsePoster.png
END:VEVENT
BEGIN:VEVENT
DTSTART;TZID=UTC:20260618T190000
DTEND;TZID=UTC:20260618T210000
DTSTAMP:20260422T205615
CREATED:20260421T223734Z
LAST-MODIFIED:20260421T223734Z
UID:4781-1781809200-1781816400@wildhorsearts.org
SUMMARY:!MINDPARADE - Live Music Concert
DESCRIPTION:!mindparade is an experimental music project combining song arc\, art rock\, chamber composition\, and avant-garde sound. \nCurrently based in Portland\, Oregon\, USA.
URL:https://wildhorsearts.org/event/mindparade-live-music-concert/
LOCATION:Wildhorse Cinema & Arts\, 655 Marketplace Plaza\, Steamboat Springs\, CO\, 80487\, United States
ATTACH;FMTTYPE=image/png:https://wildhorsearts.org/wp-content/uploads/2026/04/Screenshot-2026-04-21-at-4.36.16-PM.png
END:VEVENT
END:VCALENDAR