BEGIN:VCALENDAR
VERSION:2.0
PRODID:-//Wildhorse Steamboat CO - ECPv6.15.20//NONSGML v1.0//EN
CALSCALE:GREGORIAN
METHOD:PUBLISH
X-ORIGINAL-URL:https://wildhorsearts.org
X-WR-CALDESC:Events for Wildhorse Steamboat CO
REFRESH-INTERVAL;VALUE=DURATION:PT1H
X-Robots-Tag:noindex
X-PUBLISHED-TTL:PT1H
BEGIN:VTIMEZONE
TZID:UTC
BEGIN:STANDARD
TZOFFSETFROM:+0000
TZOFFSETTO:+0000
TZNAME:UTC
DTSTART:20250101T000000
END:STANDARD
END:VTIMEZONE
BEGIN:VEVENT
DTSTART;TZID=UTC:20260327T173000
DTEND;TZID=UTC:20260327T173000
DTSTAMP:20260421T140418
CREATED:20260323T215433Z
LAST-MODIFIED:20260324T194022Z
UID:4659-1774632600-1774632600@wildhorsearts.org
SUMMARY:WOMEN’S BIKE FILM NIGHT benefitting RCR & TCE
DESCRIPTION:Join Us for Women’s Bike Film Night benefitting Routt County Riders & The Cycle Effect!\nGet ready for an inspiring evening featuring films all about women on bikes. Whether you’re a cyclist\, film lover\, or just want to hang with some rad ladies\, this event is the perfect way to celebrate female riders and their stories. Everyone is welcome. \nWe will be showing the series “Women On Bikes” by Portland-based film festival Filmed by Bike. This excellect selection of short films is all about celebrating diverse and empowering stories of female cyclists\, from mountain biking to city commuting. We will watch as women reclaim space\, challenge industry norms\, and showcase “bike joy”. ♥️ \nGrab your gals\, enter in our huge prize drawing\, and enjoy a family-friendly night full of bike love while supporting two amazing nonprofits! \nNo refunds\, but you are welcome to transfer your ticket to someone else if you can no longer make it. Kiddos are free. Purchase tickets in advance here: https://www.eventbrite.com/e/1982306105925
URL:https://wildhorsearts.org/event/womens-bike-film-night-benefitting-rcr-tce/
LOCATION:Wildhorse Cinema & Arts\, 655 Marketplace Plaza\, Steamboat Springs\, CO\, 80487\, United States
ATTACH;FMTTYPE=image/png:https://wildhorsearts.org/wp-content/uploads/2026/03/Screenshot-2026-03-23-at-3.54.13-PM.png
END:VEVENT
BEGIN:VEVENT
DTSTART;TZID=UTC:20260327T190000
DTEND;TZID=UTC:20260327T200000
DTSTAMP:20260421T140418
CREATED:20260323T215947Z
LAST-MODIFIED:20260324T194126Z
UID:4665-1774638000-1774641600@wildhorsearts.org
SUMMARY:Project Hail Mary
DESCRIPTION:Don’t miss the movie everyone is talking about!! Science teacher Ryland Grace wakes up alone on a spaceship light-years from Earth. As his memory returns\, he uncovers a mission to stop a mysterious substance killing the sun\, and save Earth. An unexpected friendship may be the key. \nSPRING MOVIE HIT \nStarring Ryan Gosling
URL:https://wildhorsearts.org/event/project-hail-mary/
LOCATION:Wildhorse Cinema & Arts\, 655 Marketplace Plaza\, Steamboat Springs\, CO\, 80487\, United States
ATTACH;FMTTYPE=image/png:https://wildhorsearts.org/wp-content/uploads/2026/03/Screenshot-2026-03-23-at-3.57.26-PM.png
END:VEVENT
BEGIN:VEVENT
DTSTART;TZID=UTC:20260328T130000
DTEND;TZID=UTC:20260328T130000
DTSTAMP:20260421T140418
CREATED:20260323T215107Z
LAST-MODIFIED:20260324T193721Z
UID:4656-1774702800-1774702800@wildhorsearts.org
SUMMARY:Routt County Republicans Present a Free Screening of Melania
DESCRIPTION:Join the Routt County Republicans for a free public screening of Melania\, March 28 at 1pm. An intimate chronicle offers a rare glimpse into the life of Melania Trump\, exploring her role as First Lady and her relationship with the President.
URL:https://wildhorsearts.org/event/routt-county-republicans-present-a-free-screening-of-melania/
LOCATION:Wildhorse Cinema & Arts\, 655 Marketplace Plaza\, Steamboat Springs\, CO\, 80487\, United States
ATTACH;FMTTYPE=image/png:https://wildhorsearts.org/wp-content/uploads/2026/03/Screenshot-2026-03-23-at-3.49.06-PM.png
END:VEVENT
BEGIN:VEVENT
DTSTART;TZID=UTC:20260408T190000
DTEND;TZID=UTC:20260408T190000
DTSTAMP:20260421T140418
CREATED:20260406T035744Z
LAST-MODIFIED:20260407T150352Z
UID:4724-1775674800-1775674800@wildhorsearts.org
SUMMARY:Summer Blockbuster Series - Back to the Future
DESCRIPTION:Join us for the Summer Blockbuster Series with Paul McCudden. Each movie include a brief introduction and Q&A session afterwards. You won’t want to miss this lineup! \n\n\n\nApril 8 \n“Back to the Future” \nRobert Zemeckis \n1985 \n\n\nApril 15 \n“E.T.” \nSteven Spielberg \n1981 \n\n\nApril 22 \n“Animal House” \nJohn Landis \n1978 \n\n\nApril 29 \n“Deliverance” \nJohn Boorman \n1972 \n\n\nMay 6 \n“Ghost” \nJerry Zucker \n1990 \n\n\nMay 13 \n“Airplane!” \nDavid Zucker \n1980 \n\n\nMay 20 \n“Forrest Gump” \nRobert Zemeckis \n1994 \n\n\nMay 27 \n“Jaws” \nSteven Spielberg \n1975 \n\n\nJune 3 \n“The Dark Knight” \nChristopher Nolan \n2008 \n\n\nJune 10 \n“Trading Places” \nJohn Landis \n1983 \n\n\nJune 17 \n“Batman” \nTim Burton \n1989 \n\n\nJune 24 \n“Barbie” \nGreta Gerwig \n2023 
URL:https://wildhorsearts.org/event/summer-blockbuster-series-back-to-the-future/
LOCATION:Wildhorse Cinema & Arts\, 655 Marketplace Plaza\, Steamboat Springs\, CO\, 80487\, United States
ATTACH;FMTTYPE=image/png:https://wildhorsearts.org/wp-content/uploads/2026/04/Screenshot-2026-04-06-at-9.20.36-PM.png
END:VEVENT
BEGIN:VEVENT
DTSTART;TZID=UTC:20260415T190000
DTEND;TZID=UTC:20260415T210000
DTSTAMP:20260421T140418
CREATED:20260407T145743Z
LAST-MODIFIED:20260407T145743Z
UID:4734-1776279600-1776286800@wildhorsearts.org
SUMMARY:Summer Blockbuster Series -E.T.
DESCRIPTION:Join us for the Summer Blockbuster Series with Paul McCudden. Each movie include a brief introduction and Q&A session afterwards. You won’t want to miss this lineup! \n\n\n\nApril 8 \n“Back to the Future” \nRobert Zemeckis \n1985 \n\n\nApril 15 \n“E.T.” \nSteven Spielberg \n1981 \n\n\nApril 22 \n“Animal House” \nJohn Landis \n1978 \n\n\nApril 29 \n“Deliverance” \nJohn Boorman \n1972 \n\n\nMay 6 \n“Ghost” \nJerry Zucker \n1990 \n\n\nMay 13 \n“Airplane!” \nDavid Zucker \n1980 \n\n\nMay 20 \n“Forrest Gump” \nRobert Zemeckis \n1994 \n\n\nMay 27 \n“Jaws” \nSteven Spielberg \n1975 \n\n\nJune 3 \n“The Dark Knight” \nChristopher Nolan \n2008 \n\n\nJune 10 \n“Trading Places” \nJohn Landis \n1983 \n\n\nJune 17 \n“Batman” \nTim Burton \n1989 \n\n\nJune 24 \n“Barbie” \nGreta Gerwig \n2023 
URL:https://wildhorsearts.org/event/summer-blockbuster-series-e-t/
LOCATION:Wildhorse Cinema & Arts\, 655 Marketplace Plaza\, Steamboat Springs\, CO\, 80487\, United States
ATTACH;FMTTYPE=image/png:https://wildhorsearts.org/wp-content/uploads/2026/04/Screenshot-2026-04-07-at-8.56.47-AM.png
END:VEVENT
BEGIN:VEVENT
DTSTART;TZID=UTC:20260422T190000
DTEND;TZID=UTC:20260422T210000
DTSTAMP:20260421T140418
CREATED:20260407T145909Z
LAST-MODIFIED:20260407T145956Z
UID:4737-1776884400-1776891600@wildhorsearts.org
SUMMARY:Summer Blockbuster Series -Animal House
DESCRIPTION:Join us for the Summer Blockbuster Series with Paul McCudden. Each movie include a brief introduction and Q&A session afterwards. You won’t want to miss this lineup! \n\n\n\nApril 8 \n“Back to the Future” \nRobert Zemeckis \n1985 \n\n\nApril 15 \n“E.T.” \nSteven Spielberg \n1981 \n\n\nApril 22 \n“Animal House” \nJohn Landis \n1978 \n\n\nApril 29 \n“Deliverance” \nJohn Boorman \n1972 \n\n\nMay 6 \n“Ghost” \nJerry Zucker \n1990 \n\n\nMay 13 \n“Airplane!” \nDavid Zucker \n1980 \n\n\nMay 20 \n“Forrest Gump” \nRobert Zemeckis \n1994 \n\n\nMay 27 \n“Jaws” \nSteven Spielberg \n1975 \n\n\nJune 3 \n“The Dark Knight” \nChristopher Nolan \n2008 \n\n\nJune 10 \n“Trading Places” \nJohn Landis \n1983 \n\n\nJune 17 \n“Batman” \nTim Burton \n1989 \n\n\nJune 24 \n“Barbie” \nGreta Gerwig \n2023 
URL:https://wildhorsearts.org/event/summer-blockbuster-series-animal-house/
LOCATION:Wildhorse Cinema & Arts\, 655 Marketplace Plaza\, Steamboat Springs\, CO\, 80487\, United States
ATTACH;FMTTYPE=image/png:https://wildhorsearts.org/wp-content/uploads/2026/04/Screenshot-2026-04-07-at-8.58.34-AM.png
END:VEVENT
BEGIN:VEVENT
DTSTART;TZID=UTC:20260423T190000
DTEND;TZID=UTC:20260423T203000
DTSTAMP:20260421T140418
CREATED:20260208T234111Z
LAST-MODIFIED:20260323T221448Z
UID:4596-1776970800-1776976200@wildhorsearts.org
SUMMARY:The Moose Storytelling Series -Spring and Renewal
DESCRIPTION:“Joins us for one Thursday a month for a themed storytelling evening. Structured similar to the Moth Radio Hour on NPR\, The Moose Story Hour is an open mic event where we invite members of our community and visitors alike to share their stories related to the rotating monthly theme. Storytelling can help us foster greater community\, understanding\, and friendship. Each storyteller is welcomed to the stage to share a true story from their own life that relates to the central theme of the evening.  April’s theme is Spring and Renewal. Your story must be true\, your own\, and under five minutes.\nSome helpful guidelines we go over every evening at the beginning. Elaborate on the scene to help your audience visualize your story. Who’s there? Where are you? What’s happening? Was the weather a factor? Anything unique in your environment that is relevant to your story? The classic structure always works: a beginning where we meet the characters and the situation\, a middle where something changes or a problem arises\, and an ending where things resolve — or surprise us. But don’t feel constrained to a beginning\, middle\, and end! The best stories connect with the audience and we are here to lean in and listen to you\, our storytellers. Maybe we’ve never had your exact experience\, but I’m sure we’ve felt what you felt. \nWhat do you think of in your own life when you hear the words Spring or Renewal? Everyone has a story about a fresh start or an exciting once in a life time spring break. Perhaps a story that just takes place in the spring\, or at a spring. Did you have a new beginning? And exciting trip? A story about coming back to life after a time of sadness? These aren’t polished speeches —just honest moments\, big or small\, told from the heart. Let’s celebrate the power of personal stories to connect us all.” \n 
URL:https://wildhorsearts.org/event/the-moose-storytelling-series-springtime-and-renewal/
LOCATION:Wildhorse Cinema & Arts\, 655 Marketplace Plaza\, Steamboat Springs\, CO\, 80487\, United States
ATTACH;FMTTYPE=image/jpeg:https://wildhorsearts.org/wp-content/uploads/2026/02/NEW-THUMBNAIL.jpg
END:VEVENT
BEGIN:VEVENT
DTSTART;TZID=UTC:20260429T190000
DTEND;TZID=UTC:20260429T210000
DTSTAMP:20260421T140418
CREATED:20260407T150145Z
LAST-MODIFIED:20260407T150145Z
UID:4740-1777489200-1777496400@wildhorsearts.org
SUMMARY:Summer Blockbuster Series -Deliverance
DESCRIPTION:Join us for the Summer Blockbuster Series with Paul McCudden. Each movie include a brief introduction and Q&A session afterwards. You won’t want to miss this lineup! \n\n\n\nApril 8 \n“Back to the Future” \nRobert Zemeckis \n1985 \n\n\nApril 15 \n“E.T.” \nSteven Spielberg \n1981 \n\n\nApril 22 \n“Animal House” \nJohn Landis \n1978 \n\n\nApril 29 \n“Deliverance” \nJohn Boorman \n1972 \n\n\nMay 6 \n“Ghost” \nJerry Zucker \n1990 \n\n\nMay 13 \n“Airplane!” \nDavid Zucker \n1980 \n\n\nMay 20 \n“Forrest Gump” \nRobert Zemeckis \n1994 \n\n\nMay 27 \n“Jaws” \nSteven Spielberg \n1975 \n\n\nJune 3 \n“The Dark Knight” \nChristopher Nolan \n2008 \n\n\nJune 10 \n“Trading Places” \nJohn Landis \n1983 \n\n\nJune 17 \n“Batman” \nTim Burton \n1989 \n\n\nJune 24 \n“Barbie” \nGreta Gerwig \n2023 
URL:https://wildhorsearts.org/event/summer-blockbuster-series-deliverance/
LOCATION:Wildhorse Cinema & Arts\, 655 Marketplace Plaza\, Steamboat Springs\, CO\, 80487\, United States
ATTACH;FMTTYPE=image/png:https://wildhorsearts.org/wp-content/uploads/2026/04/Screenshot-2026-04-07-at-9.01.01-AM.png
END:VEVENT
BEGIN:VEVENT
DTSTART;TZID=UTC:20260430T183000
DTEND;TZID=UTC:20260430T183000
DTSTAMP:20260421T140418
CREATED:20260407T145316Z
LAST-MODIFIED:20260407T150236Z
UID:4728-1777573800-1777573800@wildhorsearts.org
SUMMARY:Sober Thursdays with The Phoenix
DESCRIPTION:Join us for Sober Thursday Movie Nights for those who are sober and those who are sober curious. In partnership with The Phoenix. 6:30 pm reception in the lobby.
URL:https://wildhorsearts.org/event/sober-thursdays-with-the-phoenix/
LOCATION:Wildhorse Cinema & Arts\, 655 Marketplace Plaza\, Steamboat Springs\, CO\, 80487\, United States
ATTACH;FMTTYPE=image/png:https://wildhorsearts.org/wp-content/uploads/2026/04/fc29530e-7696-42ae-a817-676c2c6834a8.png
END:VEVENT
BEGIN:VEVENT
DTSTART;TZID=UTC:20260501T190000
DTEND;TZID=UTC:20260501T190000
DTSTAMP:20260421T140418
CREATED:20260419T205457Z
LAST-MODIFIED:20260419T205539Z
UID:4744-1777662000-1777662000@wildhorsearts.org
SUMMARY:Six for Six Cult Classic Series - The Big Lebowski
DESCRIPTION:Six Weeks\, Six Movies\, Six Dollars. Join us for a series that will take you back to your glory days. Bring your friends to the movies that shaped a generation.
URL:https://wildhorsearts.org/event/six-for-six-cult-classic-series-the-big-lebowski/
LOCATION:Wildhorse Cinema & Arts\, 655 Marketplace Plaza\, Steamboat Springs\, CO\, 80487\, United States
ATTACH;FMTTYPE=image/png:https://wildhorsearts.org/wp-content/uploads/2026/04/WildhorsePoster.png
END:VEVENT
BEGIN:VEVENT
DTSTART;TZID=UTC:20260508T190000
DTEND;TZID=UTC:20260508T190000
DTSTAMP:20260421T140418
CREATED:20260323T221006Z
LAST-MODIFIED:20260406T181705Z
UID:4672-1778266800-1778266800@wildhorsearts.org
SUMMARY:A Tale of Two
DESCRIPTION:2024 AMERICANAFEST Official Showcase Artist \n“Official Showcase Artist: 2022 Folk Alliance International Conference” & 2022 Kerrville “New Folk Songwriting Contest Finalist” \nCombining the best of Americana and blues melodies with timeless Southern storytelling\, award winning vocalist Stephanie Adlington and guitarist Aaron Lessard draw influence from the likes of Tom Waits and Ray LaMontagne\, along with bedrock artists such as Patsy Cline and Hank Williams Sr. A Tale Of Two has opened for notable artists such as Mary Gauthier\, Grayson Capps\, and Peter Mulvey. Not unlike the artists who inspired them\, the duo’s songs frequently dabble in stories of revenge\, drinking and feature sinners of all stripes and persuasions. \nOozing an infectious stage presence and chemistry that carries over from the music to the back and forth banter between songs\, “A Tale Of Two” offers a different kind of Americana – storytelling by a swampy pair of retro raconteurs spinning blues arias with soul\, intrigue and power. \nhttps://www.taleoftwomusic.com/ \n  \nVIDEO\n \n 
URL:https://wildhorsearts.org/event/a-tale-of-two/
LOCATION:Wildhorse Cinema & Arts\, 655 Marketplace Plaza\, Steamboat Springs\, CO\, 80487\, United States
ATTACH;FMTTYPE=image/jpeg:https://wildhorsearts.org/wp-content/uploads/2026/03/aToT_2584.jpg
END:VEVENT
BEGIN:VEVENT
DTSTART;TZID=UTC:20260522T183000
DTEND;TZID=UTC:20260522T183000
DTSTAMP:20260421T140418
CREATED:20260210T155926Z
LAST-MODIFIED:20260323T214740Z
UID:4609-1779474600-1779474600@wildhorsearts.org
SUMMARY:The Risan Project Presents: Cresta Alta
DESCRIPTION:The Risan Project Presents: Cresta Alta\nA glaciological expedition-based climate science and sustainability documentary film screening + Q&A with director\, producer and cinematographer\, Todd Anders Johnson\n\nWildhorse Cinema\n655 Marketplace Plaza\nSteamboat Springs\, CO\n6:30pm doors + meet & greet\n7:00-7:15pm Introductions from regional speakers\n7:15pm Cresta Alta\n8:15pm Q&A\n\nIn Cresta Alta\, join filmmaker\, Todd Anders Johnson\, on a 10 day backpacking expedition to the McCall Glacier in the Alaskan Arctic National Wildlife Refuge with Dr. Matt Nolan; setting up basecamp at the Gamma Glacier in the Olivares Basin\, high in the Chilean Andes with Dr. Sebastian Mernild; trekking to Lake Pacacocha\, situated at 15\,000 feet in elevation\, in the Peruvian Cordillera Blanca with Dr. Rachel Chisolm; joining the Icelandic Glaciological Society jeeping up the Vatnajökull ice cap to conduct ice core drilling and meeting with the President of Iceland to discuss his experiences and perspectives on climate change impacts in Iceland. \n\n\nThe Cresta Alta Film Tour has been engaging audiences throughout the US with arts councils\, colleges\, high schools and museums with Risan Media’s expedition-based climate change documentary film titled\, Cresta Alta\, that chronicles a journey to Alaska\, Iceland\, Chile and Peru to document glaciological research expeditions and sustainability. The screenings are followed by a Risan Studies Q&A with environmental filmmaker\, Todd Anders Johnson\, who studied development issues at the University of Washington. With a foundational perspective that more sustainable policies are imperative and that there are effective renewable and sustainable options to employ regionally\, nationally and globally\, Todd has dedicated himself to the arts in creating entertaining and educational film\, music and events. \n\nIn Cresta Alta\, Todd takes a more urgent approach\, following scientists as they study glaciers and observe firsthand the rapid changes happening to these ecosystems. “Cresta Alta was an adventure story\, a research expedition\, and a personal journey all in one\,” Todd said. “I wanted to tell the story of these scientists and show how their research is helping us understand the very real effects of climate change. It’s all about trying to make the science more accessible\, but also making it emotionally compelling\, so people can understand why this is so important.” – The Risan Project Tour: Todd Johnson Brings Environmental Advocacy to Fairbanks \nThe University of Alaska Fairbanks Sun Star\, By Amber McCain \n“Todd’s film documenting his travels\, his interviews with leading scientists across the world\, and the amazing cinematography was a great experience for our students. There were multiple entry points for discussion\, including from scientific\, creative arts\, geopolitical\, and humanistic angles. I highly recommend Todd’s work for any school looking to bring real-world examples of the impact of climate change\, and what the next generation can do about it.” \nChristopher Young\, North Country Union High School Principal\, Newport\, VT \n  \n  \nCresta Alta Film Website\nwww.crestaaltafilm.com\n\nCresta Alta Film Trailer \nhttps://youtu.be/BGwX82nF54Q \n  \n\n  \nCresta Alta Film Behind the Scenes \nhttps://youtu.be/Tctx_MMaKmQ
URL:https://wildhorsearts.org/event/4609/
LOCATION:Wildhorse Cinema & Arts\, 655 Marketplace Plaza\, Steamboat Springs\, CO\, 80487\, United States
ATTACH;FMTTYPE=image/jpeg:https://wildhorsearts.org/wp-content/uploads/2026/02/image001.jpg
END:VEVENT
END:VCALENDAR