BEGIN:VCALENDAR
VERSION:2.0
PRODID:-//Wildhorse Steamboat CO - ECPv6.15.20//NONSGML v1.0//EN
CALSCALE:GREGORIAN
METHOD:PUBLISH
X-ORIGINAL-URL:https://wildhorsearts.org
X-WR-CALDESC:Events for Wildhorse Steamboat CO
REFRESH-INTERVAL;VALUE=DURATION:PT1H
X-Robots-Tag:noindex
X-PUBLISHED-TTL:PT1H
BEGIN:VTIMEZONE
TZID:UTC
BEGIN:STANDARD
TZOFFSETFROM:+0000
TZOFFSETTO:+0000
TZNAME:UTC
DTSTART:20250101T000000
END:STANDARD
END:VTIMEZONE
BEGIN:VEVENT
DTSTART;TZID=UTC:20260517T190000
DTEND;TZID=UTC:20260517T210000
DTSTAMP:20260422T154932
CREATED:20260421T222902Z
LAST-MODIFIED:20260421T222933Z
UID:4774-1779044400-1779051600@wildhorsearts.org
SUMMARY:Staff Pick Sunday - Jensen's Pick - No Country for Old Men
DESCRIPTION:Join the Staff at Wildhorse Arts & Cinema for their favorite movies. Great movies\, great company!
URL:https://wildhorsearts.org/event/staff-pick-sunday-jensens-pick-no-country-for-old-men/
LOCATION:Wildhorse Cinema & Arts\, 655 Marketplace Plaza\, Steamboat Springs\, CO\, 80487\, United States
ATTACH;FMTTYPE=image/png:https://wildhorsearts.org/wp-content/uploads/2026/04/Screenshot-2026-04-21-at-4.27.53-PM.png
END:VEVENT
END:VCALENDAR