BEGIN:VCALENDAR
VERSION:2.0
PRODID:-//Wildhorse Steamboat CO - ECPv6.15.20//NONSGML v1.0//EN
CALSCALE:GREGORIAN
METHOD:PUBLISH
X-ORIGINAL-URL:https://wildhorsearts.org
X-WR-CALDESC:Events for Wildhorse Steamboat CO
REFRESH-INTERVAL;VALUE=DURATION:PT1H
X-Robots-Tag:noindex
X-PUBLISHED-TTL:PT1H
BEGIN:VTIMEZONE
TZID:UTC
BEGIN:STANDARD
TZOFFSETFROM:+0000
TZOFFSETTO:+0000
TZNAME:UTC
DTSTART:20250101T000000
END:STANDARD
END:VTIMEZONE
BEGIN:VEVENT
DTSTART;TZID=UTC:20260515T190000
DTEND;TZID=UTC:20260515T210000
DTSTAMP:20260422T154221
CREATED:20260421T221932Z
LAST-MODIFIED:20260421T222003Z
UID:4761-1778871600-1778878800@wildhorsearts.org
SUMMARY:Six for Six Cult Classic Series - Best in Show
DESCRIPTION:Six Weeks\, Six Movies\, Six Dollars. Join us for a series that will take you back to your glory days. Bring your friends to the movies that shaped a generation.
URL:https://wildhorsearts.org/event/six-for-six-cult-classic-series-clerks/
LOCATION:Wildhorse Cinema & Arts\, 655 Marketplace Plaza\, Steamboat Springs\, CO\, 80487\, United States
ATTACH;FMTTYPE=image/png:https://wildhorsearts.org/wp-content/uploads/2026/04/WildhorsePoster.png
END:VEVENT
END:VCALENDAR