BEGIN:VCALENDAR
VERSION:2.0
PRODID:-//Wildhorse Steamboat CO - ECPv6.15.20//NONSGML v1.0//EN
CALSCALE:GREGORIAN
METHOD:PUBLISH
X-WR-CALNAME:Wildhorse Steamboat CO
X-ORIGINAL-URL:https://wildhorsearts.org
X-WR-CALDESC:Events for Wildhorse Steamboat CO
REFRESH-INTERVAL;VALUE=DURATION:PT1H
X-Robots-Tag:noindex
X-PUBLISHED-TTL:PT1H
BEGIN:VTIMEZONE
TZID:UTC
BEGIN:STANDARD
TZOFFSETFROM:+0000
TZOFFSETTO:+0000
TZNAME:UTC
DTSTART:20250101T000000
END:STANDARD
END:VTIMEZONE
BEGIN:VEVENT
DTSTART;TZID=UTC:20260508T190000
DTEND;TZID=UTC:20260508T190000
DTSTAMP:20260422T155424
CREATED:20260323T221006Z
LAST-MODIFIED:20260421T223153Z
UID:4672-1778266800-1778266800@wildhorsearts.org
SUMMARY:A Tale of Two - Live Concert in Take 5
DESCRIPTION:2024 AMERICANAFEST Official Showcase Artist \n“Official Showcase Artist: 2022 Folk Alliance International Conference” & 2022 Kerrville “New Folk Songwriting Contest Finalist” \nCombining the best of Americana and blues melodies with timeless Southern storytelling\, award winning vocalist Stephanie Adlington and guitarist Aaron Lessard draw influence from the likes of Tom Waits and Ray LaMontagne\, along with bedrock artists such as Patsy Cline and Hank Williams Sr. A Tale Of Two has opened for notable artists such as Mary Gauthier\, Grayson Capps\, and Peter Mulvey. Not unlike the artists who inspired them\, the duo’s songs frequently dabble in stories of revenge\, drinking and feature sinners of all stripes and persuasions. \nOozing an infectious stage presence and chemistry that carries over from the music to the back and forth banter between songs\, “A Tale Of Two” offers a different kind of Americana – storytelling by a swampy pair of retro raconteurs spinning blues arias with soul\, intrigue and power. \nhttps://www.taleoftwomusic.com/ \n  \nVIDEO\n \n 
URL:https://wildhorsearts.org/event/a-tale-of-two/
LOCATION:Wildhorse Cinema & Arts\, 655 Marketplace Plaza\, Steamboat Springs\, CO\, 80487\, United States
ATTACH;FMTTYPE=image/jpeg:https://wildhorsearts.org/wp-content/uploads/2026/03/aToT_2584.jpg
END:VEVENT
END:VCALENDAR