BEGIN:VCALENDAR
VERSION:2.0
PRODID:-//Wildhorse Steamboat CO - ECPv6.15.20//NONSGML v1.0//EN
CALSCALE:GREGORIAN
METHOD:PUBLISH
X-WR-CALNAME:Wildhorse Steamboat CO
X-ORIGINAL-URL:https://wildhorsearts.org
X-WR-CALDESC:Events for Wildhorse Steamboat CO
REFRESH-INTERVAL;VALUE=DURATION:PT1H
X-Robots-Tag:noindex
X-PUBLISHED-TTL:PT1H
BEGIN:VTIMEZONE
TZID:UTC
BEGIN:STANDARD
TZOFFSETFROM:+0000
TZOFFSETTO:+0000
TZNAME:UTC
DTSTART:20250101T000000
END:STANDARD
END:VTIMEZONE
BEGIN:VEVENT
DTSTART;TZID=UTC:20260502T093000
DTEND;TZID=UTC:20260502T120000
DTSTAMP:20260422T135444
CREATED:20260421T223416Z
LAST-MODIFIED:20260421T223416Z
UID:4778-1777714200-1777723200@wildhorsearts.org
SUMMARY:Mandala Making Art Class
DESCRIPTION:MANDALA WORKSHOP\nSATURDAY\, MAY 2\,2026\nLOCATION: WILDHORSE THEATRE LOBBY\n9:30 am. To 12:00.\nLed by Barbara Flowers and Cammie Downing.\nCreate a mandala using a variety of art materials.\nMandalas are symbolic geometric figures featuring symmetrical patterns.  Mandalas have traditionally been used to promote calmness\, relaxation and serenity.\nCost is $15.00 to reserve your place in the class.  Class size limited to 8.
URL:https://wildhorsearts.org/event/mandala-making-art-class/
LOCATION:Wildhorse Cinema & Arts\, 655 Marketplace Plaza\, Steamboat Springs\, CO\, 80487\, United States
ATTACH;FMTTYPE=image/png:https://wildhorsearts.org/wp-content/uploads/2026/04/Screenshot-2026-04-21-at-4.33.48-PM.png
END:VEVENT
END:VCALENDAR