BEGIN:VCALENDAR
VERSION:2.0
PRODID:-//Wildhorse Steamboat CO - ECPv6.15.20//NONSGML v1.0//EN
CALSCALE:GREGORIAN
METHOD:PUBLISH
X-WR-CALNAME:Wildhorse Steamboat CO
X-ORIGINAL-URL:https://wildhorsearts.org
X-WR-CALDESC:Events for Wildhorse Steamboat CO
REFRESH-INTERVAL;VALUE=DURATION:PT1H
X-Robots-Tag:noindex
X-PUBLISHED-TTL:PT1H
BEGIN:VTIMEZONE
TZID:UTC
BEGIN:STANDARD
TZOFFSETFROM:+0000
TZOFFSETTO:+0000
TZNAME:UTC
DTSTART:20250101T000000
END:STANDARD
END:VTIMEZONE
BEGIN:VEVENT
DTSTART;TZID=UTC:20260325T190000
DTEND;TZID=UTC:20260325T210000
DTSTAMP:20260421T124658
CREATED:20260323T220435Z
LAST-MODIFIED:20260323T220435Z
UID:4669-1774465200-1774472400@wildhorsearts.org
SUMMARY:Musicals Through the Years: The Original Willy Wonka - 50 years later!
DESCRIPTION:The world is astounded when Willy Wonka\, for years a recluse in his factory\, announces that five lucky people will be given a tour of the factory\, shown all the secrets of his amazing candy\, and one will win a lifetime supply of Wonka chocolate. Nobody wants the prize more than young Charlie\, but as his family is so poor that buying even one bar of chocolate is a treat\, buying enough bars to find one of the five golden tickets is unlikely in the extreme. But in movieland\, magic can happen. Charlie\, along with four somewhat odious other children\, get the chance of a lifetime and a tour of the factory. Along the way\, mild disasters befall each of the odious children\, but can Charlie beat the odds and grab the brass ring?
URL:https://wildhorsearts.org/event/musicals-through-the-years-the-original-willy-wonka-50-years-later/
LOCATION:Wildhorse Cinema & Arts\, 655 Marketplace Plaza\, Steamboat Springs\, CO\, 80487\, United States
ATTACH;FMTTYPE=image/png:https://wildhorsearts.org/wp-content/uploads/2026/03/Screenshot-2026-03-23-at-4.02.34-PM.png
END:VEVENT
END:VCALENDAR